BEGIN:VCALENDAR
VERSION:2.0
PRODID:-//Ocean Walker Academy - ECPv6.15.17.1//NONSGML v1.0//EN
CALSCALE:GREGORIAN
METHOD:PUBLISH
X-ORIGINAL-URL:https://oceanwalkeracademy.com
X-WR-CALDESC:Events for Ocean Walker Academy
REFRESH-INTERVAL;VALUE=DURATION:PT1H
X-Robots-Tag:noindex
X-PUBLISHED-TTL:PT1H
BEGIN:VTIMEZONE
TZID:Europe/London
BEGIN:DAYLIGHT
TZOFFSETFROM:+0000
TZOFFSETTO:+0100
TZNAME:BST
DTSTART:20250330T010000
END:DAYLIGHT
BEGIN:STANDARD
TZOFFSETFROM:+0100
TZOFFSETTO:+0000
TZNAME:GMT
DTSTART:20251026T010000
END:STANDARD
BEGIN:DAYLIGHT
TZOFFSETFROM:+0000
TZOFFSETTO:+0100
TZNAME:BST
DTSTART:20260329T010000
END:DAYLIGHT
BEGIN:STANDARD
TZOFFSETFROM:+0100
TZOFFSETTO:+0000
TZNAME:GMT
DTSTART:20261025T010000
END:STANDARD
BEGIN:DAYLIGHT
TZOFFSETFROM:+0000
TZOFFSETTO:+0100
TZNAME:BST
DTSTART:20270328T010000
END:DAYLIGHT
BEGIN:STANDARD
TZOFFSETFROM:+0100
TZOFFSETTO:+0000
TZNAME:GMT
DTSTART:20271031T010000
END:STANDARD
END:VTIMEZONE
BEGIN:VEVENT
DTSTART;TZID=Europe/London:20260530T080000
DTEND;TZID=Europe/London:20260601T113000
DTSTAMP:20260423T190753
CREATED:20260420T074354Z
LAST-MODIFIED:20260420T074400Z
UID:10002987-1780128000-1780313400@oceanwalkeracademy.com
SUMMARY:Tenerife Masterclass — 3-Day Ocean Walker Technique Intensive
DESCRIPTION:THE HEADLINE EXPERIENCE\nThis is the one people talk about. \nEvery year\, Adam Walker heads to Tenerife for a small-group\, 3-day intensive masterclass — and every single past attendee has rated it 5 stars. If you've ever wanted to completely transform the way you swim\, this is where it happens. \nOver three full days at Tenerife Top Training's stunning outdoor heated pool in La Caleta de Adeje\, Adam will take you through the Ocean Walker Technique from the ground up — the same method he used to complete his legendary 7 Ocean swims. \nWHAT IS THE OCEAN WALKER TECHNIQUE?\nThe Ocean Walker Technique is widely regarded as the world's most efficient front crawl. Built around five progressive stages\, it teaches you to move through water with less effort\, less drag\, and greater speed — whether you're a complete beginner learning to swim properly for the first time\, or an experienced swimmer looking to rebuild and refine. \nIt's not just a swim stroke. It's a completely different relationship with the water. \nWHAT TO EXPECT ACROSS THE 3 DAYS\nDay 1 — Build the foundations In a small group\, Adam will guide you through all five stages of the Ocean Walker Technique. Each stage builds on the last — teaching body position\, timing\, and efficiency. Adam gives live in-water demonstrations and works with every swimmer individually. Your swimming is filmed throughout for video analysis. \nDay 2 — Refine and review Back in the pool to consolidate everything from Day 1. Mid-session\, the group moves to the classroom for a full video review of your progress. In the afternoon\, Adam works with you on the specific adjustments that will make the biggest difference to your stroke. \nDay 3 — Final session and close A final pool session with Adam focusing on the areas that need the most attention\, followed by your closing video review. You leave with a clear picture of where you are\, what's changed\, and exactly what to work on next. \nWHAT'S INCLUDED\n\n5 coached pool sessions with Adam Walker\nIndividual video analysis and personalised feedback across all 3 days\nSmall group environment — every swimmer gets personal attention\nSuitable for complete beginners through to advanced swimmers\nFree Ocean Walker swim cap on the day\nPost-camp video footage to review your progress at home\n\nPlease note: travel\, accommodation\, and meals are not included. This is for the swim course only. \nTHE VENUE\nTenerife Top Training Avenida de los Acantilados\, s/n 38679 La Caleta de Adeje Tenerife\, Canary Islands\, Spain \nA world-class training facility with a 25-metre outdoor heated chlorinated pool — used by elite athletes and accessible in stunning sunshine. It's one of the finest swim coaching environments in Europe. \nWHAT SWIMMERS SAY\n"One of the most beautiful experiences of my life. The Ocean Walker Technique has been a game changer." — Lorenzo\, past participant \n"Three days of intensive work with professional trainers\, in a great atmosphere and a lovely facility. It is surprising to see my improvement in three days — less strokes\, less drag\, more speed." — Pieter\, past participant \n"Adam made me fall in love with swimming again. I can't wait to take part in another camp." — Ana\, past participant \n"Two and a half days packed with practice\, drills\, explanations and visible improvements. Adam tailors his tips to where you currently are — beginner or more advanced." — Irene\, past participant \nIMPORTANT INFORMATION\n\nDates: 30th May – 1st June 2026\nPrice: £975 per person\nAbility level: All abilities — complete beginners to advanced\nLanguage: English\nGroup size: Small group\, limited places\nSwim kit required: swimsuit/trunks\, towel\, goggles (swim cap provided)\n\nBy booking you agree to Ocean Walker Academy's terms and conditions. Please read the full camp information including cancellation policy before booking. \n			\n				BOOK NOW!!!
URL:https://oceanwalkeracademy.com/events/tenerife-masterclass-2026/
LOCATION:Tenerife Top Training\, Tenerife Top Training\, Avenida de los Acantilados\, La Caleta de Adeje\, Santa Cruz de Tenerife\, s/n 38679\, Spain
ATTACH;FMTTYPE=image/jpeg:https://oceanwalkeracademy.com/wp-content/uploads/Tenerife.jpeg
END:VEVENT
BEGIN:VEVENT
DTSTART;TZID=Europe/London:20260711T090000
DTEND;TZID=Europe/London:20260711T181500
DTSTAMP:20260423T190753
CREATED:20260423T090849Z
LAST-MODIFIED:20260423T090849Z
UID:10002991-1783760400-1783793700@oceanwalkeracademy.com
SUMMARY:1 Day Open Water Swim Camp
DESCRIPTION:Learn the world's most efficient front crawl technique in open water — coached by Adam Walker himself\, at Ocean Walker Academy's own Crystal Lake in Lincolnshire. \nThis is a full day of hands-on\, individual technique coaching in the water. Small group. Big results. \nWhat to expect\nIn a small group\, Adam Walker and Head Coach Gemma Clarke will take you through the 5 stages that build up to the Ocean Walker Technique. These stages — or drills — teach you how to position your body to be efficient in the water\, helping you swim faster for longer whilst reducing the risk of injury. \nYour day is made up of two coached swim sessions in the lake. In the first session you will learn the stages Adam has formulated to help you find your most efficient position in the water. In the second session you bring it all together\, forming the complete Ocean Walker Technique front crawl stroke. \nAgenda\n9:00am · Arrive and registration 9:30am – 12:15pm · Swim Session 1 12:15pm – 1:15pm · Break 1:15pm – 3:45pm · Swim Session 2 3:55pm – 4:15pm · Change and close \nHot drinks and cakes available to purchase during the break. \nYour coaches\nAdam Walker · Record breaker and creator of the Ocean Walker Technique\nGemma Clarke · Head Coach \nAbility level\nMust be able to swim 100m in a pool. Open water experience is not required. This course is suitable for complete beginners through to more advanced swimmers looking to refine their technique. \nWhat to bring\nSwimsuit or trunks · Towel · Goggles · Wetsuit or rash vest (highly recommended) · Flip flops · Suncream · Changing robe · Kit bag. A free Ocean Walker swim cap will be provided on the day. \nLocation\nOcean Walker Academy\, Hoop Lane Farm\, Hoop Lane\, Langton by Wragby\, Market Rasen\, Lincolnshire\, LN8 5QB. Free onsite parking · toilets and changing facilities on site. \nPlease read our full terms and conditions before booking. All bookings must be made online. \n\n  BOOK NOW · £299
URL:https://oceanwalkeracademy.com/events/1-day-open-water-swim-camp/
LOCATION:Ocean Walker Academy
ATTACH;FMTTYPE=image/jpeg:https://oceanwalkeracademy.com/wp-content/uploads/Lincoln-1-day-open-water-swim-camp-banner.jpg
END:VEVENT
BEGIN:VEVENT
DTSTART;TZID=Europe/London:20260813T090000
DTEND;TZID=Europe/London:20260815T160000
DTSTAMP:20260423T190753
CREATED:20260423T091557Z
LAST-MODIFIED:20260423T091652Z
UID:10002992-1786611600-1786809600@oceanwalkeracademy.com
SUMMARY:3 Day Open Water Swim Camp
DESCRIPTION:The full Ocean Walker experience. Three days of intensive lake and pool coaching\, video analysis\, great food\, and a technique that will stay with you long after you've dried off. \nLearn the Ocean Walker Technique directly from Adam Walker — world record channel swimmer and its creator — at his own purpose-built Crystal Lake in Lincolnshire. \nWhat's included\n4 coached lake sessions · 2 coached pool sessions · 3 video analysis sessions using underwater cameras · Lunch and refreshments all 3 days · Lakeside dinner on Day 1 · Free Ocean Walker swim cap · Coaching from Adam Walker and Gemma Clarke \nProgramme\nDay 1 9:00am · Arrive and change 9:30am – 10:30am · Pool · current stroke video 10:30am – 12:30pm · Lake Session 1 12:30pm – 2:00pm · Change and lunch 2:00pm – 4:30pm · Lake Session 2 4:30pm – 5:00pm · Change and refreshments 5:00pm – 6:30pm · Video analysis 7:00pm · Lakeside dinner \nDay 2 9:00am · Arrive and change 9:30am – 11:30am · Lake Session 3 11:30am – 1:00pm · Change and lunch 1:00pm – 3:00pm · Lake Session 4 3:00pm – 4:00pm · Change and refreshments 4:00pm – 5:30pm · Video analysis \nDay 3 8:00am · Arrive and change 8:30am – 11:30am · Pool Session 5 11:30am – 1:00pm · Change and lunch 1:00pm – 3:30pm · Video analysis 4:00pm · Close \nYour coaches\nAdam Walker · Record breaker and creator of the Ocean Walker Technique\nGemma Clarke · Head Coach \nAbility level\nMust be able to swim 100m in a pool. Open water experience is not required. Suitable for all levels from complete beginners to advanced swimmers. \nWhat to bring\nSwimsuit or trunks · Towel · Goggles · Wetsuit or rash vest (highly recommended) · Flip flops · Suncream · Changing robe · Kit bag. A free Ocean Walker swim cap will be provided on the day. Please also advise of any dietary requirements at the time of booking. \nAccommodation\nAccommodation is not included but we recommend the following nearby options: Adam & Eve Pub\, Wragby · 5 min drive · Forest View Camping · 5–10 min walk · Washingborough Hall Hotel · 20 min drive · DoubleTree by Hilton · 20 min drive \nLocation\nOcean Walker Academy\, Hoop Lane Farm\, Hoop Lane\, Langton by Wragby\, Market Rasen\, Lincolnshire\, LN8 5QB. Free onsite parking · toilets and changing facilities on site. \nPlease read our full terms and conditions before booking. All bookings must be made online. \nBOOK NOW · £995
URL:https://oceanwalkeracademy.com/events/3-day-open-water-swim-camp/
LOCATION:Ocean Walker Academy
ATTACH;FMTTYPE=image/jpeg:https://oceanwalkeracademy.com/wp-content/uploads/Lincoln-3-day-open-water-swim-camp-banner.jpg
END:VEVENT
END:VCALENDAR