BEGIN:VCALENDAR
VERSION:2.0
PRODID:-//Ocean Walker Academy - ECPv6.15.17.1//NONSGML v1.0//EN
CALSCALE:GREGORIAN
METHOD:PUBLISH
X-WR-CALNAME:Ocean Walker Academy
X-ORIGINAL-URL:https://oceanwalkeracademy.com
X-WR-CALDESC:Events for Ocean Walker Academy
REFRESH-INTERVAL;VALUE=DURATION:PT1H
X-Robots-Tag:noindex
X-PUBLISHED-TTL:PT1H
BEGIN:VTIMEZONE
TZID:Europe/London
BEGIN:DAYLIGHT
TZOFFSETFROM:+0000
TZOFFSETTO:+0100
TZNAME:BST
DTSTART:20250330T010000
END:DAYLIGHT
BEGIN:STANDARD
TZOFFSETFROM:+0100
TZOFFSETTO:+0000
TZNAME:GMT
DTSTART:20251026T010000
END:STANDARD
BEGIN:DAYLIGHT
TZOFFSETFROM:+0000
TZOFFSETTO:+0100
TZNAME:BST
DTSTART:20260329T010000
END:DAYLIGHT
BEGIN:STANDARD
TZOFFSETFROM:+0100
TZOFFSETTO:+0000
TZNAME:GMT
DTSTART:20261025T010000
END:STANDARD
BEGIN:DAYLIGHT
TZOFFSETFROM:+0000
TZOFFSETTO:+0100
TZNAME:BST
DTSTART:20270328T010000
END:DAYLIGHT
BEGIN:STANDARD
TZOFFSETFROM:+0100
TZOFFSETTO:+0000
TZNAME:GMT
DTSTART:20271031T010000
END:STANDARD
END:VTIMEZONE
BEGIN:VEVENT
DTSTART;TZID=Europe/London:20260213T100000
DTEND;TZID=Europe/London:20260213T160000
DTSTAMP:20260423T115508
CREATED:20240712T134620Z
LAST-MODIFIED:20250918T142745Z
UID:10002943-1770976800-1770998400@oceanwalkeracademy.com
SUMMARY:Restore Retreat Day
DESCRIPTION:A restorative day\, enjoying our beautiful\, calm surroundings to relax and revitalise your body\, mind and soul. A nourishing lunch is included and this retreat is open to all abilities.\nOur Restore Retreat includes Yoga\, Cold Water Immersion\, Mindfulness Walk with Fire Ritual and Guided Meditation with Crystal Healing. \nBOOK RETREAT
URL:https://oceanwalkeracademy.com/events/restore-retreat-day/2026-02-13/
LOCATION:Ocean Walker Academy
CATEGORIES:RETREAT DAY,WELLBEING,YOGA
ATTACH;FMTTYPE=image/jpeg:https://oceanwalkeracademy.com/wp-content/uploads/IMG_20221210_100915-scaled.jpg
ORGANIZER;CN="Crystal Lake View Therapies":MAILTO:reception@oceanwalkeracademy.com
END:VEVENT
END:VCALENDAR